BEGIN:VCALENDAR
VERSION:2.0
PRODID:-//VDH Rohrhof - ECPv6.15.20//NONSGML v1.0//EN
CALSCALE:GREGORIAN
METHOD:PUBLISH
X-WR-CALNAME:VDH Rohrhof
X-ORIGINAL-URL:https://vdh-rohrhof.de
X-WR-CALDESC:Veranstaltungen für VDH Rohrhof
REFRESH-INTERVAL;VALUE=DURATION:PT1H
X-Robots-Tag:noindex
X-PUBLISHED-TTL:PT1H
BEGIN:VTIMEZONE
TZID:Europe/Berlin
BEGIN:DAYLIGHT
TZOFFSETFROM:+0100
TZOFFSETTO:+0200
TZNAME:CEST
DTSTART:20240331T010000
END:DAYLIGHT
BEGIN:STANDARD
TZOFFSETFROM:+0200
TZOFFSETTO:+0100
TZNAME:CET
DTSTART:20241027T010000
END:STANDARD
BEGIN:DAYLIGHT
TZOFFSETFROM:+0100
TZOFFSETTO:+0200
TZNAME:CEST
DTSTART:20250330T010000
END:DAYLIGHT
BEGIN:STANDARD
TZOFFSETFROM:+0200
TZOFFSETTO:+0100
TZNAME:CET
DTSTART:20251026T010000
END:STANDARD
BEGIN:DAYLIGHT
TZOFFSETFROM:+0100
TZOFFSETTO:+0200
TZNAME:CEST
DTSTART:20260329T010000
END:DAYLIGHT
BEGIN:STANDARD
TZOFFSETFROM:+0200
TZOFFSETTO:+0100
TZNAME:CET
DTSTART:20261025T010000
END:STANDARD
END:VTIMEZONE
BEGIN:VEVENT
DTSTART;TZID=Europe/Berlin:20250601T110000
DTEND;TZID=Europe/Berlin:20250601T120000
DTSTAMP:20260423T054737
CREATED:20250513T084057Z
LAST-MODIFIED:20250513T084057Z
UID:5803-1748775600-1748779200@vdh-rohrhof.de
SUMMARY:Social Walk Juni
DESCRIPTION:Leinenspaziergang für Mitglieder und Übungsgruppenteilnehmer. Eine Anmeldung ist nicht erforderlich.
URL:https://vdh-rohrhof.de/event/social-walk-juni/
LOCATION:Übungsgelände VdH Rohrhof\, Hanfäcker 11\, Brühl\, 68782
ATTACH;FMTTYPE=image/jpeg:https://vdh-rohrhof.de/wp-content/uploads/2023/11/comp__MG_0005-scaled-e1701085150507.jpg
END:VEVENT
BEGIN:VEVENT
DTSTART;TZID=Europe/Berlin:20250614T090000
DTEND;TZID=Europe/Berlin:20250614T120000
DTSTAMP:20260423T054737
CREATED:20250513T083404Z
LAST-MODIFIED:20250513T084606Z
UID:5799-1749891600-1749902400@vdh-rohrhof.de
SUMMARY:Arbeitseinsatz Juni
DESCRIPTION:
URL:https://vdh-rohrhof.de/event/arbeitseinsatz-juni/
LOCATION:Übungsgelände VdH Rohrhof\, Hanfäcker 11\, Brühl\, 68782
ATTACH;FMTTYPE=image/jpeg:https://vdh-rohrhof.de/wp-content/uploads/2020/02/IMG_20191026_115423.jpg
END:VEVENT
BEGIN:VEVENT
DTSTART;TZID=Europe/Berlin:20250619T080000
DTEND;TZID=Europe/Berlin:20250619T150000
DTSTAMP:20260423T054737
CREATED:20250210T204847Z
LAST-MODIFIED:20250211T174914Z
UID:5698-1750320000-1750345200@vdh-rohrhof.de
SUMMARY:3. Hoopers Turnier
DESCRIPTION:Wir freuen uns sehr euch zu unserem dritten Hoopers Turnier einladen zu dürfen.\nAm 19.06.2025 darf ab 08:00 gemeldet werden\, erster Start ab 09:00.\nAnja Kohler wird das Turnier richten\, 40 Plätze sind zu vergeben\, die Start Gebühr beträgt 20.-Euro.\nDie Prüfungsleitung liegt bei Silvia Göck. \nWir hoffen auf ein spannendes Turnier mit viel Spaß und Action! \n  \nMelden ab sofort über \nhttps://www.webmelden.de/ \n  \n-Werbung- \nUnsere Partner: \n \nhttps://www.belcando.de/ \n  \n  \nhttps://www.wildborn.com/ \n  \n  \nhttps://www.koelle-zoo.de \n  \n  \nhttps://www.bosch-tiernahrung.de \n  \n  \nhttps://www.vet-concept.com \n  \n  \n 
URL:https://vdh-rohrhof.de/event/3-hoopers-turnier/
LOCATION:Übungsgelände VdH Rohrhof\, Hanfäcker 11\, Brühl\, 68782
ATTACH;FMTTYPE=image/jpeg:https://vdh-rohrhof.de/wp-content/uploads/2025/02/1713290223327-scaled-e1739219526246.jpg
END:VEVENT
END:VCALENDAR