BEGIN:VCALENDAR
VERSION:2.0
PRODID:-//VDH Rohrhof - ECPv6.15.20//NONSGML v1.0//EN
CALSCALE:GREGORIAN
METHOD:PUBLISH
X-ORIGINAL-URL:https://vdh-rohrhof.de
X-WR-CALDESC:Veranstaltungen für VDH Rohrhof
REFRESH-INTERVAL;VALUE=DURATION:PT1H
X-Robots-Tag:noindex
X-PUBLISHED-TTL:PT1H
BEGIN:VTIMEZONE
TZID:Europe/Berlin
BEGIN:DAYLIGHT
TZOFFSETFROM:+0100
TZOFFSETTO:+0200
TZNAME:CEST
DTSTART:20220327T010000
END:DAYLIGHT
BEGIN:STANDARD
TZOFFSETFROM:+0200
TZOFFSETTO:+0100
TZNAME:CET
DTSTART:20221030T010000
END:STANDARD
BEGIN:DAYLIGHT
TZOFFSETFROM:+0100
TZOFFSETTO:+0200
TZNAME:CEST
DTSTART:20230326T010000
END:DAYLIGHT
BEGIN:STANDARD
TZOFFSETFROM:+0200
TZOFFSETTO:+0100
TZNAME:CET
DTSTART:20231029T010000
END:STANDARD
BEGIN:DAYLIGHT
TZOFFSETFROM:+0100
TZOFFSETTO:+0200
TZNAME:CEST
DTSTART:20240331T010000
END:DAYLIGHT
BEGIN:STANDARD
TZOFFSETFROM:+0200
TZOFFSETTO:+0100
TZNAME:CET
DTSTART:20241027T010000
END:STANDARD
BEGIN:DAYLIGHT
TZOFFSETFROM:+0100
TZOFFSETTO:+0200
TZNAME:CEST
DTSTART:20250330T010000
END:DAYLIGHT
BEGIN:STANDARD
TZOFFSETFROM:+0200
TZOFFSETTO:+0100
TZNAME:CET
DTSTART:20251026T010000
END:STANDARD
BEGIN:DAYLIGHT
TZOFFSETFROM:+0100
TZOFFSETTO:+0200
TZNAME:CEST
DTSTART:20260329T010000
END:DAYLIGHT
BEGIN:STANDARD
TZOFFSETFROM:+0200
TZOFFSETTO:+0100
TZNAME:CET
DTSTART:20261025T010000
END:STANDARD
BEGIN:DAYLIGHT
TZOFFSETFROM:+0100
TZOFFSETTO:+0200
TZNAME:CEST
DTSTART:20270328T010000
END:DAYLIGHT
BEGIN:STANDARD
TZOFFSETFROM:+0200
TZOFFSETTO:+0100
TZNAME:CET
DTSTART:20271031T010000
END:STANDARD
END:VTIMEZONE
BEGIN:VEVENT
DTSTART;TZID=Europe/Berlin:20260328T093000
DTEND;TZID=Europe/Berlin:20260328T123000
DTSTAMP:20260422T135201
CREATED:20260314T110022Z
LAST-MODIFIED:20260314T110022Z
UID:5998-1774690200-1774701000@vdh-rohrhof.de
SUMMARY:Arbeitseinsatz
DESCRIPTION:
URL:https://vdh-rohrhof.de/event/arbeitseinsatz-22/
LOCATION:Übungsgelände VdH Rohrhof\, Hanfäcker 11\, Brühl\, 68782
END:VEVENT
BEGIN:VEVENT
DTSTART;TZID=Europe/Berlin:20260103T153000
DTEND;TZID=Europe/Berlin:20260103T190000
DTSTAMP:20260422T135201
CREATED:20251125T104848Z
LAST-MODIFIED:20251125T104848Z
UID:5991-1767454200-1767466800@vdh-rohrhof.de
SUMMARY:Neujahrslauf 2026
DESCRIPTION:Neujahrslauf für Vereinsmitglieder und Familie! \n  \nWir treffen uns für einen besonderen Social Walk mit Hund und anschließend gemütlichem Beisammensein inklusive Punsch\, Glühwein und Leckereien. \nEs handelt sich um einen Leinenspaziergang\, daher bitten wir darum\, eine kurze (bis max. 2m) Leine\, keine Flexi- oder Schleppleinen\, zu nutzen. Natürlich dürfen auch Vereinsmitglieder ohne Hund sich dem Spaziergang anschließen. \n\nTreffpunkt ist gegen 15.30 Uhr am Vorplatz des Vereinsheims (Hanfäcker)\, von wo aus eine gemütliche Runde etwa 45 – 60min durchs Naturschutzgebiet führt. Anschließend begrüßen wir das neue Jahr und stoßen mit Glühwein und Punsch an. Christian und Brenda sorgen für leckere Verköstigung und ein gemütliches Feuer. \nWir freuen uns über zahlreiche Anmeldungen – bitte via Trainer oder an kontakt@vdh-rohrhof.de ! \n  \n 
URL:https://vdh-rohrhof.de/event/neujahrslauf-2026/
LOCATION:Clubhaus der Hundefreunde\, Hanfäcker 11\, Brühl\, Deutschland
ATTACH;FMTTYPE=image/jpeg:https://vdh-rohrhof.de/wp-content/uploads/2021/01/8D449AEC-7D2E-46E1-8F20-1C34A1CBAA61-scaled.jpeg
END:VEVENT
BEGIN:VEVENT
DTSTART;TZID=Europe/Berlin:20251122T090000
DTEND;TZID=Europe/Berlin:20251122T120000
DTSTAMP:20260422T135201
CREATED:20250908T144250Z
LAST-MODIFIED:20250908T144250Z
UID:5876-1763802000-1763812800@vdh-rohrhof.de
SUMMARY:Arbeitseinsatz November
DESCRIPTION:Regulärer Arbeitseinsatz im November. Die Hecken sollen unter anderem geschnitten werden.  \nWir bitten um Anmeldung bei den Trainern oder via Kontaktformular.\nDanke!
URL:https://vdh-rohrhof.de/event/arbeitseinsatz-juni-2-2/
LOCATION:Übungsgelände VdH Rohrhof\, Hanfäcker 11\, Brühl\, 68782
ATTACH;FMTTYPE=image/jpeg:https://vdh-rohrhof.de/wp-content/uploads/2020/02/IMG_20191116_153126.jpg
END:VEVENT
BEGIN:VEVENT
DTSTART;TZID=Europe/Berlin:20251019T130000
DTEND;TZID=Europe/Berlin:20251019T170000
DTSTAMP:20260422T135201
CREATED:20250908T145200Z
LAST-MODIFIED:20250924T094539Z
UID:5882-1760878800-1760893200@vdh-rohrhof.de
SUMMARY:Schnellster Hund von Rohrhof 2025
DESCRIPTION:Es ist wieder so weit! \nDer Vdh Rohrhof lädt alle Hundefreunde zum alljährlichen Hunderennen ein. Wir suchen wieder den „schnellsten Hund vom Rohrhof“ in verschiedenen Größen- und Altersklassen.\nAnmelden könnt ihr euch ab 13.00 Uhr\, der erste Start ist für 14.00 Uhr geplant. \nKommt zum Biergartenabschluss und feuert die Teilnehmer an oder lasst eure Hunde selbst starten. Es gibt wie immer tolle Preise zu gewinnen. Genießt den Tag in hundefreundlicher Gesellschaft bei Kaffee\, Waffeln\, Kuchen und leckeren Speisen und Getränken aus dem Clubhaus der Hundefreunde. \nEine vorherige Anmeldung ist nicht notwendig. Meldebeginn am Renntag ab 13.00 Uhr vor Ort.\nMitzuführen ist ein gültiger Impfpass mit Tollwutimpfung. Jeder Hund muss über eine gültige Haftpflichtversicherung verfügen. \nWir freuen uns auf Euch!
URL:https://vdh-rohrhof.de/event/schnellster-hund-von-rohrhof-2025/
LOCATION:Übungsgelände VdH Rohrhof\, Hanfäcker 11\, Brühl\, 68782
ATTACH;FMTTYPE=image/jpeg:https://vdh-rohrhof.de/wp-content/uploads/2025/09/Plakat_v13-scaled-e1758707031286.jpg
END:VEVENT
BEGIN:VEVENT
DTSTART;TZID=Europe/Berlin:20251018T090000
DTEND;TZID=Europe/Berlin:20251018T120000
DTSTAMP:20260422T135201
CREATED:20250908T143916Z
LAST-MODIFIED:20250908T143916Z
UID:5873-1760778000-1760788800@vdh-rohrhof.de
SUMMARY:Arbeitseinsatz Oktober
DESCRIPTION:Wir brauchen eure tatkräftige Unterstützung um den Platz für den „Schnellsten Hund vom Rohrhof“ am darauffolgenden Sonntag auf Vordermann zu bringen.\nBitte meldet euch zahlreich bei eurem Trainer oder via Kontaktformular an.\nDanke\,\nEuer Vorstand
URL:https://vdh-rohrhof.de/event/arbeitseinsatz-juni-2/
LOCATION:Übungsgelände VdH Rohrhof\, Hanfäcker 11\, Brühl\, 68782
ATTACH;FMTTYPE=image/jpeg:https://vdh-rohrhof.de/wp-content/uploads/2020/05/6986E3F2-13FA-4077-8EDE-C54430F197A7-scaled.jpeg
END:VEVENT
BEGIN:VEVENT
DTSTART;TZID=Europe/Berlin:20250706T110000
DTEND;TZID=Europe/Berlin:20250706T120000
DTSTAMP:20260422T135201
CREATED:20250513T084454Z
LAST-MODIFIED:20250513T084454Z
UID:5807-1751799600-1751803200@vdh-rohrhof.de
SUMMARY:Social Walk Juli
DESCRIPTION:Leinenspaziergang für Mitglieder und Übungsgruppenteilnehmer. Eine Anmeldung ist nicht erforderlich.
URL:https://vdh-rohrhof.de/event/social-walk-juli/
LOCATION:Übungsgelände VdH Rohrhof\, Hanfäcker 11\, Brühl\, 68782
ATTACH;FMTTYPE=image/jpeg:https://vdh-rohrhof.de/wp-content/uploads/2023/11/comp__MG_0005-scaled-e1701085150507.jpg
END:VEVENT
BEGIN:VEVENT
DTSTART;TZID=Europe/Berlin:20250619T080000
DTEND;TZID=Europe/Berlin:20250619T150000
DTSTAMP:20260422T135201
CREATED:20250210T204847Z
LAST-MODIFIED:20250211T174914Z
UID:5698-1750320000-1750345200@vdh-rohrhof.de
SUMMARY:3. Hoopers Turnier
DESCRIPTION:Wir freuen uns sehr euch zu unserem dritten Hoopers Turnier einladen zu dürfen.\nAm 19.06.2025 darf ab 08:00 gemeldet werden\, erster Start ab 09:00.\nAnja Kohler wird das Turnier richten\, 40 Plätze sind zu vergeben\, die Start Gebühr beträgt 20.-Euro.\nDie Prüfungsleitung liegt bei Silvia Göck. \nWir hoffen auf ein spannendes Turnier mit viel Spaß und Action! \n  \nMelden ab sofort über \nhttps://www.webmelden.de/ \n  \n-Werbung- \nUnsere Partner: \n \nhttps://www.belcando.de/ \n  \n  \nhttps://www.wildborn.com/ \n  \n  \nhttps://www.koelle-zoo.de \n  \n  \nhttps://www.bosch-tiernahrung.de \n  \n  \nhttps://www.vet-concept.com \n  \n  \n 
URL:https://vdh-rohrhof.de/event/3-hoopers-turnier/
LOCATION:Übungsgelände VdH Rohrhof\, Hanfäcker 11\, Brühl\, 68782
ATTACH;FMTTYPE=image/jpeg:https://vdh-rohrhof.de/wp-content/uploads/2025/02/1713290223327-scaled-e1739219526246.jpg
END:VEVENT
BEGIN:VEVENT
DTSTART;TZID=Europe/Berlin:20250614T090000
DTEND;TZID=Europe/Berlin:20250614T120000
DTSTAMP:20260422T135201
CREATED:20250513T083404Z
LAST-MODIFIED:20250513T084606Z
UID:5799-1749891600-1749902400@vdh-rohrhof.de
SUMMARY:Arbeitseinsatz Juni
DESCRIPTION:
URL:https://vdh-rohrhof.de/event/arbeitseinsatz-juni/
LOCATION:Übungsgelände VdH Rohrhof\, Hanfäcker 11\, Brühl\, 68782
ATTACH;FMTTYPE=image/jpeg:https://vdh-rohrhof.de/wp-content/uploads/2020/02/IMG_20191026_115423.jpg
END:VEVENT
BEGIN:VEVENT
DTSTART;TZID=Europe/Berlin:20250601T110000
DTEND;TZID=Europe/Berlin:20250601T120000
DTSTAMP:20260422T135201
CREATED:20250513T084057Z
LAST-MODIFIED:20250513T084057Z
UID:5803-1748775600-1748779200@vdh-rohrhof.de
SUMMARY:Social Walk Juni
DESCRIPTION:Leinenspaziergang für Mitglieder und Übungsgruppenteilnehmer. Eine Anmeldung ist nicht erforderlich.
URL:https://vdh-rohrhof.de/event/social-walk-juni/
LOCATION:Übungsgelände VdH Rohrhof\, Hanfäcker 11\, Brühl\, 68782
ATTACH;FMTTYPE=image/jpeg:https://vdh-rohrhof.de/wp-content/uploads/2023/11/comp__MG_0005-scaled-e1701085150507.jpg
END:VEVENT
BEGIN:VEVENT
DTSTART;TZID=Europe/Berlin:20250517T103000
DTEND;TZID=Europe/Berlin:20250517T140000
DTSTAMP:20260422T135201
CREATED:20250513T083251Z
LAST-MODIFIED:20250513T083251Z
UID:5794-1747477800-1747490400@vdh-rohrhof.de
SUMMARY:Arbeitseinsatz Mai
DESCRIPTION:Wir brauchen eure tatkräftige Unterstützung\, um die Übungsplätze auf Vordermann zu bringen. Im Anschluss an den Arbeitseinsatz findet diesmal ein gemütliches Zusammensein statt. Wir bitten um Anmeldung bei dem jeweiligen Übungsleiter oder über das Kontaktformular.
URL:https://vdh-rohrhof.de/event/arbeitseinsatz-mai-2/
LOCATION:Übungsgelände VdH Rohrhof\, Hanfäcker 11\, Brühl\, 68782
ATTACH;FMTTYPE=image/jpeg:https://vdh-rohrhof.de/wp-content/uploads/2020/05/6986E3F2-13FA-4077-8EDE-C54430F197A7-scaled.jpeg
END:VEVENT
BEGIN:VEVENT
DTSTART;TZID=Europe/Berlin:20250209T150000
DTEND;TZID=Europe/Berlin:20250209T170000
DTSTAMP:20260422T135201
CREATED:20250202T114440Z
LAST-MODIFIED:20250202T114440Z
UID:5694-1739113200-1739120400@vdh-rohrhof.de
SUMMARY:Jahreshauptversammlung
DESCRIPTION:Am Sonntag\, den 09.02.2025 findet die Jahreshauptversammlung des VdH Rohrhofs im Clubhaus statt.\nIm Anschluss werden wir uns zum Stammtisch treffen.
URL:https://vdh-rohrhof.de/event/jahreshauptversammlung-2/
LOCATION:Clubhaus der Hundefreunde\, Hanfäcker 11\, Brühl\, Deutschland
END:VEVENT
BEGIN:VEVENT
DTSTART;TZID=Europe/Berlin:20250104T153000
DTEND;TZID=Europe/Berlin:20250104T200000
DTSTAMP:20260422T135201
CREATED:20241108T201804Z
LAST-MODIFIED:20241108T202400Z
UID:5675-1736004600-1736020800@vdh-rohrhof.de
SUMMARY:Neujahrslauf
DESCRIPTION:Neujahrslauf für Vereinsmitglieder. \nWir treffen uns für einen  besonderen Social Walk und einem Lauf. \nNähere Infos folgen noch!
URL:https://vdh-rohrhof.de/event/neujahrslauf/
LOCATION:Übungsgelände VdH Rohrhof\, Hanfäcker 11\, Brühl\, 68782
END:VEVENT
BEGIN:VEVENT
DTSTART;TZID=Europe/Berlin:20241207T090000
DTEND;TZID=Europe/Berlin:20241207T120000
DTSTAMP:20260422T135201
CREATED:20241108T202201Z
LAST-MODIFIED:20241108T202201Z
UID:5678-1733562000-1733572800@vdh-rohrhof.de
SUMMARY:Arbeitseinsatz im Dezember
DESCRIPTION:Der Arbeitseinsatz beginnt um 9:00 Uhr auf dem Übungsgelände
URL:https://vdh-rohrhof.de/event/arbeitseinsatz-im-dezember/
LOCATION:Übungsgelände VdH Rohrhof\, Hanfäcker 11\, Brühl\, 68782
END:VEVENT
BEGIN:VEVENT
DTSTART;TZID=Europe/Berlin:20241027T093000
DTEND;TZID=Europe/Berlin:20241027T140000
DTSTAMP:20260422T135201
CREATED:20240904T143511Z
LAST-MODIFIED:20240904T143511Z
UID:5502-1730021400-1730037600@vdh-rohrhof.de
SUMMARY:Team Test
DESCRIPTION:
URL:https://vdh-rohrhof.de/event/team-test/
LOCATION:Übungsgelände VdH Rohrhof\, Hanfäcker 11\, Brühl\, 68782
END:VEVENT
BEGIN:VEVENT
DTSTART;TZID=Europe/Berlin:20241026T090000
DTEND;TZID=Europe/Berlin:20241026T130000
DTSTAMP:20260422T135201
CREATED:20240904T143321Z
LAST-MODIFIED:20240904T143321Z
UID:5499-1729933200-1729947600@vdh-rohrhof.de
SUMMARY:Begleithunde Prüfung
DESCRIPTION:
URL:https://vdh-rohrhof.de/event/begleithunde-pruefung/
LOCATION:Übungsgelände VdH Rohrhof\, Hanfäcker 11\, Brühl\, 68782
END:VEVENT
BEGIN:VEVENT
DTSTART;TZID=Europe/Berlin:20241019T090000
DTEND;TZID=Europe/Berlin:20241019T120000
DTSTAMP:20260422T135201
CREATED:20240809T114436Z
LAST-MODIFIED:20240809T114436Z
UID:5434-1729328400-1729339200@vdh-rohrhof.de
SUMMARY:Arbeitseinsatz im Oktober
DESCRIPTION:Der Arbeitseinsatz beginnt um 9:00 auf dem Vereinsgelände
URL:https://vdh-rohrhof.de/event/arbeitseinsatz-im-oktober/
LOCATION:Übungsgelände VdH Rohrhof\, Hanfäcker 11\, Brühl\, 68782
END:VEVENT
BEGIN:VEVENT
DTSTART;TZID=Europe/Berlin:20240929T130000
DTEND;TZID=Europe/Berlin:20240929T170000
DTSTAMP:20260422T135201
CREATED:20240904T143105Z
LAST-MODIFIED:20240904T143105Z
UID:5496-1727614800-1727629200@vdh-rohrhof.de
SUMMARY:Schnellster Hund vom Rohrhof
DESCRIPTION:Es ist wieder soweit! \nAuch dieses Jahr suchen wir den schnellsten Hund vom Rohrhof! \nWir freuen uns auf zahlreiche Teilnehmer und Zuschauer\, für das leibliche Wohl stehen Kaffee\, Kuchen und Waffeln zur Verfügung. \nDie Gewinner dürfen sich über tolle Preise freuen.
URL:https://vdh-rohrhof.de/event/schnellster-hund-vom-rohrhof-2/
LOCATION:Übungsgelände VdH Rohrhof\, Hanfäcker 11\, Brühl\, 68782
ATTACH;FMTTYPE=image/jpeg:https://vdh-rohrhof.de/wp-content/uploads/2024/04/Schnellstehund_7-rotated-e1725460220230.jpg
END:VEVENT
BEGIN:VEVENT
DTSTART;TZID=Europe/Berlin:20240915T090000
DTEND;TZID=Europe/Berlin:20240915T160000
DTSTAMP:20260422T135201
CREATED:20240415T114527Z
LAST-MODIFIED:20240825T142705Z
UID:5344-1726390800-1726416000@vdh-rohrhof.de
SUMMARY:2.Hoopers-Turnier des VdH Rohrhofs
DESCRIPTION:Wir freuen uns sehr\, Euch zu unserem 2. Hoopers-Turnier am 15.09.2024 einladen zu dürfen! \nWir werden 3 Läufe und die Klassen H1-H3 anbieten. \nAls Richterin wird uns Frau Dagmar Fauth zur Seite stehen. \nGemeldet werden kann ab Heute dem 15.04.2024 über webmelden.de \nWir freuen uns auf Euch! \n  \nDiese Veranstaltung wird gesponsert von: \n   http://www.kölle-zoo.de \n     http://www.wildborn.com
URL:https://vdh-rohrhof.de/event/2-hoopers-turnier-des-vdh-rohrhofs/
LOCATION:Übungsgelände VdH Rohrhof\, Hanfäcker 11\, Brühl\, 68782
END:VEVENT
BEGIN:VEVENT
DTSTART;TZID=Europe/Berlin:20240907T090000
DTEND;TZID=Europe/Berlin:20240907T120000
DTSTAMP:20260422T135201
CREATED:20240808T064648Z
LAST-MODIFIED:20240904T141805Z
UID:5430-1725699600-1725710400@vdh-rohrhof.de
SUMMARY:Arbeitseinsatz im September
DESCRIPTION:Der Arbeitseinsatz beginnt um 09:00 Uhr auf dem Vereinsgelände \nAbgesagt!!
URL:https://vdh-rohrhof.de/event/arbeitseinsatz-im-september/
LOCATION:Übungsgelände VdH Rohrhof\, Hanfäcker 11\, Brühl\, 68782
END:VEVENT
BEGIN:VEVENT
DTSTART;TZID=Europe/Berlin:20240830T183000
DTEND;TZID=Europe/Berlin:20240830T220000
DTSTAMP:20260422T135201
CREATED:20240825T142602Z
LAST-MODIFIED:20240825T142602Z
UID:5483-1725042600-1725055200@vdh-rohrhof.de
SUMMARY:Stammtisch
DESCRIPTION:
URL:https://vdh-rohrhof.de/event/stammtisch/
LOCATION:Clubhaus der Hundefreunde\, Hanfäcker 11\, Brühl\, Deutschland
END:VEVENT
BEGIN:VEVENT
DTSTART;TZID=Europe/Berlin:20240810T090000
DTEND;TZID=Europe/Berlin:20240810T120000
DTSTAMP:20260422T135201
CREATED:20240808T064408Z
LAST-MODIFIED:20240808T064459Z
UID:5427-1723280400-1723291200@vdh-rohrhof.de
SUMMARY:Arbeitseinsatz im August
DESCRIPTION:Der Arbeitseinsatz beginnt um 09:00 Uhr auf dem Vereinsgelände
URL:https://vdh-rohrhof.de/event/arbeitseinsatz-im-august/
LOCATION:Übungsgelände VdH Rohrhof\, Hanfäcker 11\, Brühl\, 68782
END:VEVENT
BEGIN:VEVENT
DTSTART;TZID=Europe/Berlin:20240803T100000
DTEND;TZID=Europe/Berlin:20240803T140000
DTSTAMP:20260422T135201
CREATED:20240727T130456Z
LAST-MODIFIED:20240808T064026Z
UID:5421-1722679200-1722693600@vdh-rohrhof.de
SUMMARY:Ferienfreizeit bei den Hundefreunden
DESCRIPTION:Am 03.08.2024 freuen wir uns sehr die Ferienkinder bei uns begrüßen zu dürfen! \nDie Veranstaltung beginnt um 10:00 und endet gegen 14:00
URL:https://vdh-rohrhof.de/event/ferienfreizeit-bei-den-hundefreunden/
LOCATION:Übungsgelände VdH Rohrhof\, Hanfäcker 11\, Brühl\, 68782
END:VEVENT
BEGIN:VEVENT
DTSTART;TZID=Europe/Berlin:20240622T090000
DTEND;TZID=Europe/Berlin:20240622T120000
DTSTAMP:20260422T135201
CREATED:20240530T110017Z
LAST-MODIFIED:20240530T110017Z
UID:5389-1719046800-1719057600@vdh-rohrhof.de
SUMMARY:Arbeitseinsatz
DESCRIPTION:
URL:https://vdh-rohrhof.de/event/arbeitseinsatz-21/
LOCATION:Übungsgelände VdH Rohrhof\, Hanfäcker 11\, Brühl\, 68782
END:VEVENT
BEGIN:VEVENT
DTSTART;TZID=Europe/Berlin:20240608T090000
DTEND;TZID=Europe/Berlin:20240608T140000
DTSTAMP:20260422T135201
CREATED:20240530T105901Z
LAST-MODIFIED:20240530T105901Z
UID:5386-1717837200-1717855200@vdh-rohrhof.de
SUMMARY:Team Feedback
DESCRIPTION:
URL:https://vdh-rohrhof.de/event/team-feedback/
LOCATION:Übungsgelände VdH Rohrhof\, Hanfäcker 11\, Brühl\, 68782
END:VEVENT
BEGIN:VEVENT
DTSTART;TZID=Europe/Berlin:20231125T090000
DTEND;TZID=Europe/Berlin:20231125T120000
DTSTAMP:20260422T135201
CREATED:20230418T151222Z
LAST-MODIFIED:20230418T151222Z
UID:4975-1700902800-1700913600@vdh-rohrhof.de
SUMMARY:Arbeitseinsatz November
DESCRIPTION:Wir laden alle Mitglieder und Kursteilnehmer ein\, uns fleißig beim Arbeitseinsatz am 25.11.2023 ab 9 Uhr unter die Arme zu greifen. Anmeldungen bitte an die jeweiligen Trainer und Übungsgruppenleiter. Wir freuen uns auf tatkräftige Unterstützung!
URL:https://vdh-rohrhof.de/event/arbeitseinsatz-november/
LOCATION:Übungsgelände VdH Rohrhof\, Hanfäcker 11\, Brühl\, 68782
END:VEVENT
BEGIN:VEVENT
DTSTART;TZID=Europe/Berlin:20231104T100000
DTEND;TZID=Europe/Berlin:20231104T140000
DTSTAMP:20260422T135201
CREATED:20231007T105733Z
LAST-MODIFIED:20231007T105733Z
UID:5238-1699092000-1699106400@vdh-rohrhof.de
SUMMARY:Fun-Turnier des Vdh Rohrhof
DESCRIPTION:Zum Jahresabschluss wollen wir für alle Mitglieder und Freunde des Vereins ein „Fun-Turnier“ mit Hindernisparcours\, einfachem Rally-Obedience Parcours und weiteren lustigen Aufgaben veranstalten.  \nIm Focus stehen Spaß\, Teamwork mit dem Vierbeinigen Kollegen und das unbeschwerte Miteinander.\nFür Verpflegung ist natürlich gesorgt!  \nAnmeldung bitte rechtzeitig via Trainer oder Kontaktformular.
URL:https://vdh-rohrhof.de/event/fun-turnier-des-vdh-rohrhof/
LOCATION:Übungsgelände VdH Rohrhof\, Hanfäcker 11\, Brühl\, 68782
ATTACH;FMTTYPE=image/jpeg:https://vdh-rohrhof.de/wp-content/uploads/2022/07/603855_874015419310766_1188131929651347101_n.jpg
END:VEVENT
BEGIN:VEVENT
DTSTART;TZID=Europe/Berlin:20231021T090000
DTEND;TZID=Europe/Berlin:20231021T120000
DTSTAMP:20260422T135201
CREATED:20230418T151001Z
LAST-MODIFIED:20230418T151001Z
UID:4972-1697878800-1697889600@vdh-rohrhof.de
SUMMARY:Arbeitseinsatz Oktober
DESCRIPTION:Wir laden alle Mitglieder und Kursteilnehmer ein\, uns fleißig beim Arbeitseinsatz am 21.10.2023 ab 9 Uhr unter die Arme zu greifen. Anmeldungen bitte an die jeweiligen Trainer und Übungsgruppenleiter. Wir freuen uns auf tatkräftige Unterstützung!
URL:https://vdh-rohrhof.de/event/arbeitseinsatz-oktober/
LOCATION:Übungsgelände VdH Rohrhof\, Hanfäcker 11\, Brühl\, 68782
END:VEVENT
BEGIN:VEVENT
DTSTART;VALUE=DATE:20230924
DTEND;VALUE=DATE:20230925
DTSTAMP:20260422T135201
CREATED:20230503T185332Z
LAST-MODIFIED:20230503T185607Z
UID:5044-1695513600-1695599999@vdh-rohrhof.de
SUMMARY:Schnellster Hund vom Rohrhof
DESCRIPTION:Weitere Informationen folgen…
URL:https://vdh-rohrhof.de/event/schnellster-hund-vom-rohrhof/
LOCATION:Übungsgelände VdH Rohrhof\, Hanfäcker 11\, Brühl\, 68782
ATTACH;FMTTYPE=image/jpeg:https://vdh-rohrhof.de/wp-content/uploads/2022/07/603855_874015419310766_1188131929651347101_n.jpg
END:VEVENT
BEGIN:VEVENT
DTSTART;TZID=Europe/Berlin:20230922T180000
DTEND;TZID=Europe/Berlin:20230922T220000
DTSTAMP:20260422T135201
CREATED:20230418T150748Z
LAST-MODIFIED:20230418T150748Z
UID:4969-1695405600-1695420000@vdh-rohrhof.de
SUMMARY:Stammtisch im September
DESCRIPTION:Wir freuen uns auf einen gemütlichen Abend mit möglichst vielen Mitgliedern und Freunden des Vereins. Wir bitten Euch um eine Anmeldung\, damit wir wissen\, wie viele Plätze wir reservieren müssen. Danke\, die Vorstandschaft.
URL:https://vdh-rohrhof.de/event/stammtisch-im-september/
LOCATION:Clubhaus der Hundefreunde\, Hanfäcker 11\, Brühl\, Deutschland
ATTACH;FMTTYPE=image/jpeg:https://vdh-rohrhof.de/wp-content/uploads/2022/07/291899168_5287824097950064_2615878287870390001_n.jpg
END:VEVENT
BEGIN:VEVENT
DTSTART;TZID=Europe/Berlin:20230916T090000
DTEND;TZID=Europe/Berlin:20230916T120000
DTSTAMP:20260422T135201
CREATED:20230418T150447Z
LAST-MODIFIED:20230418T150447Z
UID:4966-1694854800-1694865600@vdh-rohrhof.de
SUMMARY:Arbeitseinsatz September
DESCRIPTION:Wir treffen uns zu einem Arbeitseinsatz\, um den Platz in Schuss zu halten. Zahlreiches Erscheinen ist gewünscht\, denn je mehr helfen\, desto mehr schaffen wir gemeinsam in kürzerer Zeit. Anmeldung bei den Trainern und Kursleitern.
URL:https://vdh-rohrhof.de/event/arbeitseinsatz-september/
LOCATION:Übungsgelände VdH Rohrhof\, Hanfäcker 11\, Brühl\, 68782
END:VEVENT
END:VCALENDAR